BEGIN:VCALENDAR
VERSION:2.0
PRODID:-//die wunderliste//DE
CALSCALE:GREGORIAN
METHOD:PUBLISH
BEGIN:VEVENT
UID:3f16c065-7d12-477d-b55d-cdcffc216149@die-wunderliste.de
DTSTAMP:20260424T215507Z
DTSTART:20260516T070000Z
DTEND:20260516T090000Z
SUMMARY:Waldbaden & Stille
DESCRIPTION:Vier Stunden im Wald. Gemeinsames Gehen\, Stille\, einfaches Essen.
LOCATION:Perlacher Forst · Treffpunkt S-Bahn\, S-Bahn Deisenhofen
URL:https://www.die-wunderliste.de/events/waldbaden-stille
END:VEVENT
END:VCALENDAR