BEGIN:VCALENDAR
VERSION:2.0
PRODID:-//die wunderliste//DE
CALSCALE:GREGORIAN
METHOD:PUBLISH
BEGIN:VEVENT
UID:88fe1829-4dcd-4b51-8460-86aa58b62576@die-wunderliste.de
DTSTAMP:20260424T230631Z
DTSTART:20260509T163000Z
DTEND:20260509T183000Z
SUMMARY:Tantra Einführungsabend
DESCRIPTION:Ein sanfter Einstieg in die Welt des Neotantra. Kein Vorwissen nötig.
LOCATION:Schule der Achtsamkeit\, Tegernseer Landstraße 60
URL:https://www.die-wunderliste.de/events/tantra-einfuehrungsabend
END:VEVENT
END:VCALENDAR