BEGIN:VCALENDAR
VERSION:2.0
PRODID:-//die wunderliste//DE
CALSCALE:GREGORIAN
METHOD:PUBLISH
BEGIN:VEVENT
UID:7b356eb2-c8ce-4f48-8f98-2b5259302d01@die-wunderliste.de
DTSTAMP:20260424T230819Z
DTSTART:20260510T080000Z
DTEND:20260510T100000Z
SUMMARY:Sunday Breathwork Journey
DESCRIPTION:Connected Breathing in einer kleinen Gruppe. Mitbringen: Matte\, Decke\, bequeme Kleidung.
LOCATION:Raum für Atem\, Lindwurmstraße 112
URL:https://www.die-wunderliste.de/events/sunday-breathwork-journey
END:VEVENT
END:VCALENDAR