BEGIN:VCALENDAR
VERSION:2.0
PRODID:-//die wunderliste//DE
CALSCALE:GREGORIAN
METHOD:PUBLISH
BEGIN:VEVENT
UID:df32af0e-57df-44e2-95fe-1f318fd3fa68@die-wunderliste.de
DTSTAMP:20260425T002417Z
DTSTART:20260511T180000Z
DTEND:20260511T200000Z
SUMMARY:Klangbad zur Vollmondnacht
DESCRIPTION:Liegend empfangen. Klang als Weg zurück in den Körper.
LOCATION:Yogaraum Schwabing\, Hohenzollernstraße 14
URL:https://www.die-wunderliste.de/events/klangbad-zur-vollmondnacht
END:VEVENT
END:VCALENDAR