BEGIN:VCALENDAR
VERSION:2.0
PRODID:-//die wunderliste//DE
CALSCALE:GREGORIAN
METHOD:PUBLISH
BEGIN:VEVENT
UID:c0521bdf-99f6-4d18-98c8-b1b237e276f0@die-wunderliste.de
DTSTAMP:20260424T215450Z
DTSTART:20260514T173000Z
DTEND:20260514T193000Z
SUMMARY:Ecstatic Dance München
DESCRIPTION:Die legendäre ecstatic dance Community. DJ-Set + Opening Circle.
LOCATION:Färberei\, Claude-Lorrain-Straße 25
URL:https://www.die-wunderliste.de/events/ecstatic-dance-muenchen
END:VEVENT
END:VCALENDAR