BEGIN:VCALENDAR
VERSION:2.0
PRODID:-//die wunderliste//DE
CALSCALE:GREGORIAN
METHOD:PUBLISH
BEGIN:VEVENT
UID:40c45ff3-14ec-46db-9655-01e787448ba9@die-wunderliste.de
DTSTAMP:20260424T221356Z
DTSTART:20260803T000000Z
DTEND:20260803T020000Z
SUMMARY:GFK-Familienzeit Seminar im Vogelsbergdorf
DESCRIPTION:Wir sind ein Team von Trainerinnen und Trainern\, die Gewaltfreie Kommunikation in Familien stärken möchten. In den Seminaren geht es um GFK-Basics\, Vertiefung sowie themenbezogene Einheiten. Neben Kinderbetreuung und vegetarischer/veganer Verpflegung bieten wir Vollverpflegung und familienfreundliche Unterbringung. Die Anlage bietet großen Spielplatz\, Sportplatz und weitere Räume für gemeinschaftliche Zeit\, Tränen und Lachen. Freu dich auf Waves\, Stockbrot\, Männerabende\, Frauenabende\, Singen\, Tanzen und Feiern. Termin: 3.8.–13.8.2026. Ort: Vogelsbergdorf\, Herbststein\, Hessen.
LOCATION:Vogelsbergdorf Herbststein\, Vogelsbergdorf\, Herbststein\, Hessen\, Deutschland
URL:https://www.die-wunderliste.de/events/2026-08-03-gfk-familienzeit-seminar-im-vogelsbergdorf
END:VEVENT
END:VCALENDAR