BEGIN:VCALENDAR
VERSION:2.0
PRODID:-//die wunderliste//DE
CALSCALE:GREGORIAN
METHOD:PUBLISH
BEGIN:VEVENT
UID:e8eecb65-a9d2-4f5b-824b-40a49d15d909@die-wunderliste.de
DTSTAMP:20260425T002844Z
DTSTART:20260529T000000Z
DTEND:20260529T020000Z
SUMMARY:Visionssuche im Wildniscamp Lamplstätt
DESCRIPTION:Visionssuche im Wildniscamp Lamplstätt in Bayern. Vom 29. Mai bis 1. Juni tauchen wir in Natur\, Ahnenwissen und unsere Intuition ein. Zelten\, draußen kochen\, Circle Work\, Rituale\, Meditation und Gebete begleiten uns. 24 Stunden Solo-Immersion\, Stille\, Lauschen und Empfangen. Wir lassen das Feld von Mutter Erde tragen und kehren gestärkt zurück.
LOCATION:Lamplstätt\,  Bayern\, Deutschland
URL:https://www.die-wunderliste.de/events/2026-05-29-visionssuche-im-wildniscamp-lamplstaett
END:VEVENT
END:VCALENDAR