BEGIN:VCALENDAR
VERSION:2.0
PRODID:-//die wunderliste//DE
CALSCALE:GREGORIAN
METHOD:PUBLISH
BEGIN:VEVENT
UID:380e144b-6bf8-4427-bb7e-217a26ee36b4@die-wunderliste.de
DTSTAMP:20260425T003120Z
DTSTART:20260513T120000Z
DTEND:20260513T160000Z
SUMMARY:Geomantie – Kraftorte erspüren
DESCRIPTION:Teil des Festivals der Zukünfte: Entdecke die Kunst der Geomantie bei einem einzigartigen Event von Hagia Chora. Erfahre\, wie man die verborgenen Energien der Natur erkennt und spürt.
LOCATION:Maria Rain - Parkplatz Kirche\, Maria Rain - Parkplatz Kirche
URL:https://www.die-wunderliste.de/events/2026-05-13-geomantie-kraftorte-erspueren
END:VEVENT
END:VCALENDAR