BEGIN:VCALENDAR
VERSION:2.0
PRODID:-//die wunderliste//DE
CALSCALE:GREGORIAN
METHOD:PUBLISH
BEGIN:VEVENT
UID:e3bd60ee-edef-4b67-9794-7ec11a4d80cf@die-wunderliste.de
DTSTAMP:20260425T002129Z
DTSTART:20260511T160000Z
DTEND:20260511T173000Z
SUMMARY:Herzens-Einladung Breathwork Uplift Session
DESCRIPTION:Wenn du spürst\, dass dir diese Session guttun würde – körperlich\, emotional und mental – dann ist das deine Einladung. Die Session findet am 11.05.2026 online via Zoom statt und bietet dir die Möglichkeit\, für mehr Leichtigkeit\, Klarheit und Verbindung zu sorgen. Es sind noch 5 freie Plätze vorhanden\, die verschenkt werden.
LOCATION:
URL:https://www.die-wunderliste.de/events/2026-05-11-herzens-einladung-breathwork-uplift-session
END:VEVENT
END:VCALENDAR