BEGIN:VCALENDAR
VERSION:2.0
PRODID:-//die wunderliste//DE
CALSCALE:GREGORIAN
METHOD:PUBLISH
BEGIN:VEVENT
UID:01ec19d3-f135-4514-a357-ec0975e7c240@die-wunderliste.de
DTSTAMP:20260425T002700Z
DTSTART:20260509T170000Z
DTEND:20260509T193000Z
SUMMARY:Klang\, Stimme & Herz
DESCRIPTION:Gemeinsam mit Philipp Ham Kuman öffnen wir einen Raum für Tiefe\, Verbindung und Musik. Wir beginnen im Kreis mit Mama Cacao und lassen uns anschließend in ein zeremonielles Konzert tragen. Philipp's mantrenartige Lieder berühren den Herzensraum und laden zum Mitsingen ein. Ein Abend zum Ankommen und Erinnern\, was in dir lebendig ist. Lass dich von Klang\, Stimme und Herz tragen\, unterstützt von Cacao & Präsenz.
LOCATION:cacaoHaus Weßling\, cacaoHaus Weßling
URL:https://www.die-wunderliste.de/events/2026-05-09-klang-stimme-herz
END:VEVENT
END:VCALENDAR