BEGIN:VCALENDAR
VERSION:2.0
PRODID:-//die wunderliste//DE
CALSCALE:GREGORIAN
METHOD:PUBLISH
BEGIN:VEVENT
UID:c0b7dbd6-5baa-43e7-b1bc-347ff55157f8@die-wunderliste.de
DTSTAMP:20260424T221315Z
DTSTART:20260508T163000Z
DTEND:20260508T193000Z
SUMMARY:Dein Weg zurück zu dir – Teil 3
DESCRIPTION:Im letzten Teil unserer Reihe geht es darum\, deine erlernten Fähigkeiten anzuwenden und in die Praxis umzusetzen. Teile deine Erfahrungen mit anderen und wachse über dich hinaus.
LOCATION:Jurte im NaturErlebnisGarten\, Spatzenhausen
URL:https://www.die-wunderliste.de/events/2026-05-08-dein-weg-zurueck-zu-dir-teil-1
END:VEVENT
END:VCALENDAR