BEGIN:VCALENDAR
VERSION:2.0
PRODID:-//die wunderliste//DE
CALSCALE:GREGORIAN
METHOD:PUBLISH
BEGIN:VEVENT
UID:60f1324c-b2aa-468d-a3e8-40dc5963566f@die-wunderliste.de
DTSTAMP:20260425T003006Z
DTSTART:20260507T220000Z
DTEND:20260511T215959Z
SUMMARY:Klang-Yoga-Retreat Bayern
DESCRIPTION:Erlebe 4 Tage und 3 Nächte im wunderschönen Berchtesgadener Land\, umgeben von Bergen. Das Retreat beinhaltet Yoga-Betreuung\, gute Gespräche\, Halbpension mit vegan/vegetarischem Essen\, Kundalini-Yoga-Stunden\, Naturwanderungen\, einen Stimmgabel-Workshop sowie Gongbäder und Meditationen. Genieße die Ruhe und die Schwingungen der Klangreisen und lass dein Nervensystem zur Ruhe kommen. Ein Gutschein als Bonus bei Anmeldung im Newsletter!
LOCATION:Berchtesgadener Land\, Berchtesgadener Land
URL:https://www.die-wunderliste.de/events/2026-05-07-klang-yoga-retreat-bayern
END:VEVENT
END:VCALENDAR