BEGIN:VCALENDAR
VERSION:2.0
PRODID:-//die wunderliste//DE
CALSCALE:GREGORIAN
METHOD:PUBLISH
BEGIN:VEVENT
UID:22a1b608-470e-4880-a846-b9bc6d475860@die-wunderliste.de
DTSTAMP:20260425T001627Z
DTSTART:20260430T170000Z
DTEND:20260430T190000Z
SUMMARY:Connect\, Dream & Dance
DESCRIPTION:Besuche die 'Connect\, Dream & Dance' Veranstaltung in der Roten Fabrik München. Genieße Live-Piano und Ecstatic Wave von Ralph Kiefer und Daniel Goldbach. Der Abend beginnt mit einem sinnlichen Warmup.
LOCATION:Rote Fabrik München\, Rote Fabrik München
URL:https://www.die-wunderliste.de/events/2026-04-30-connect-dream-dance
END:VEVENT
END:VCALENDAR