BEGIN:VCALENDAR
VERSION:2.0
PRODID:-//die wunderliste//DE
CALSCALE:GREGORIAN
METHOD:PUBLISH
BEGIN:VEVENT
UID:dbe43f1b-e957-4cab-a3e3-b9436ac0ba09@die-wunderliste.de
DTSTAMP:20260424T220845Z
DTSTART:20260429T160000Z
DTEND:20260429T180000Z
SUMMARY:Die Pole der Vaterkraft
DESCRIPTION:Dieser Workshop richtet sich an alle Männer\, die mehr Klarheit und Verständnis für das Thema 'Vater' gewinnen wollen. Der erfahrene Männercoach Carlson El Murtadi wird durch die Veranstaltung führen und wichtige Einblicke sowie Werkzeuge zur Verfügung stellen\, um die eigene Vaterrolle besser zu verstehen. Melden Sie sich online an und erhalten Sie weitere Informationen zur genauen Adresse.
LOCATION:München\, München (genaue Adresse bei Anmeldung)
URL:https://www.die-wunderliste.de/events/2026-04-29-die-pole-der-vaterkraft
END:VEVENT
END:VCALENDAR