BEGIN:VCALENDAR
VERSION:2.0
PRODID:-//die wunderliste//DE
CALSCALE:GREGORIAN
METHOD:PUBLISH
BEGIN:VEVENT
UID:2b94d598-3c1b-4213-91ae-a03c944e9b79@die-wunderliste.de
DTSTAMP:20260424T221743Z
DTSTART:20260428T170000Z
DTEND:20260428T190000Z
SUMMARY:Kirtan Abend
DESCRIPTION:Genieße einen gemütlichen Abend mit zeremoniellen Kakao und seelenvollen Gesängen. Die Veranstaltung fordert keine Vorerfahrung\, bring einfach dein offenes Herz mit! Schaffe eine tiefere Verbindung durch Mantras und Gesang gemeinsam mit Arpita & Arjuna. Die Teilnehmerzahl ist begrenzt\, sichere dir daher schnell dein Ticket.
LOCATION:Studio
URL:https://www.die-wunderliste.de/events/2026-04-28-kirtan-abend
END:VEVENT
END:VCALENDAR