BEGIN:VCALENDAR
VERSION:2.0
PRODID:-//die wunderliste//DE
CALSCALE:GREGORIAN
METHOD:PUBLISH
BEGIN:VEVENT
UID:b9d70d5a-d5ff-41f8-973d-4ddb430cf987@die-wunderliste.de
DTSTAMP:20260424T221458Z
DTSTART:20260428T220000Z
DTEND:20260503T215959Z
SUMMARY:holy erotica - sensual retreat für frauen
DESCRIPTION:Erforsche die Verkörperung von Genuss in einem 5-tägigen Retreat für Frauen in Oy-Mittelberg\, Oberallgäu. Lass den Leistungsdruck hinter dir\, genieße das Fließen\, Spielen und das Wiederentdecken deiner Unschuld. Nutze die Gelegenheit\, dich selbst zur Priorität zu machen und erforsche\, was sich in dir wirklich gut anfühlt. Es gibt nur noch 2 freie Plätze für spontane Damen. Organisiere deine Zeit für eine tiefgreifende Selbstentdeckung!
LOCATION:Tempel\, Oy-Mittelberg\, Oberallgäu
URL:https://www.die-wunderliste.de/events/2026-04-28-holy-erotica-sensual-retreat-fuer-frauen
END:VEVENT
END:VCALENDAR