BEGIN:VCALENDAR
VERSION:2.0
PRODID:-//die wunderliste//DE
CALSCALE:GREGORIAN
METHOD:PUBLISH
BEGIN:VEVENT
UID:fe909264-6cd8-4a19-9dd7-559ee48298c8@die-wunderliste.de
DTSTAMP:20260425T002023Z
DTSTART:20260426T083000Z
DTEND:20260426T103000Z
SUMMARY:Inspiration-Brunch
DESCRIPTION:Dieser Inspiration-Brunch bietet dir die Möglichkeit\, tief in die Themen Selbstoptimierung und innere Entwicklung einzutauchen. Viele Frauen fühlen sich unter Druck\, ständig besser werden zu müssen und haben das Gefühl\, nicht genug zu sein. Doch wir werden gemeinsam erkunden\, dass wahres Wachstum nicht immer bedeutet\, mehr zu werden\, sondern oft das Ablegen von Überflüssigem. Melde dich an und entdecke\, wie du Klarheit gewinnen und deine innere Wahrheit leben kannst.
LOCATION:Patisserie Siessl\, München Maxvorstadt
URL:https://www.die-wunderliste.de/events/2026-04-26-inspiration-brunch
END:VEVENT
END:VCALENDAR