BEGIN:VCALENDAR
VERSION:2.0
PRODID:-//die wunderliste//DE
CALSCALE:GREGORIAN
METHOD:PUBLISH
BEGIN:VEVENT
UID:3393ddc5-9f4b-41db-aeaf-5d7eba6e23fe@die-wunderliste.de
DTSTAMP:20260425T002028Z
DTSTART:20260426T153000Z
DTEND:20260426T170000Z
SUMMARY:Herztrommeln
DESCRIPTION:Kommt vorbei und trommelt mit uns den Rhythmus -ICH BIN- auf der Herztrommel. Für alle\, die ihre ursprüngliche Frequenz spüren möchten. Vorkenntnisse sind nicht nötig! Trommeln sind vorhanden\, also just be here and now. Danach ab 19.30 Uhr gibt es ein weiteres Highlight mit Singen\, gehostet von Ilze & Mara & Friends. Bitte vorher anmelden!
LOCATION:Pavillon Haus Maria Thalkirchen\, Adresse bei Anmeldung
URL:https://www.die-wunderliste.de/events/2026-04-26-herztrommeln
END:VEVENT
END:VCALENDAR