BEGIN:VCALENDAR
VERSION:2.0
PRODID:-//die wunderliste//DE
CALSCALE:GREGORIAN
METHOD:PUBLISH
BEGIN:VEVENT
UID:5bf9ee5f-205a-4664-a55a-0448f904ca2d@die-wunderliste.de
DTSTAMP:20260425T002417Z
DTSTART:20260425T060000Z
DTEND:20260425T070000Z
SUMMARY:Osho Dynamische Meditation
DESCRIPTION:Nehmt teil an der Osho Dynamischen Meditation\, einem kraftvollen Weg\, um euch von den Belastungen der Woche zu befreien. Dieser Prozess hilft\, die eigene Energie wieder fließen zu lassen und einen positiven Start ins Wochenende zu haben. Treffpunkt ist um 7:45 Uhr\, die Meditation selbst findet von 8:00 bis 9:00 Uhr statt. Der Unkostenbeitrag beträgt 10 Euro. Weitere Informationen findet ihr auf unserer Webseite oder in unserer Telegram-Gruppe.
LOCATION:TTC München\, Halle 3\, Stockacher Str. 9\, 81243 München
URL:https://www.die-wunderliste.de/events/2026-04-25-osho-dynamische-meditation
END:VEVENT
END:VCALENDAR