BEGIN:VCALENDAR
VERSION:2.0
PRODID:-//die wunderliste//DE
CALSCALE:GREGORIAN
METHOD:PUBLISH
BEGIN:VEVENT
UID:29c09c59-2392-4654-9f4d-373c441e776b@die-wunderliste.de
DTSTAMP:20260425T002726Z
DTSTART:20260425T090000Z
DTEND:20260425T110000Z
SUMMARY:Somatisch spirituelle Traumatherapie (SSTT)
DESCRIPTION:In diesem Vortrag bekommst du einen Einblick in die somatisch spirituelle Traumatherapie (SSTT) und was diese Methode bewirken kann. Ich werde dir erklären\, wie SSTT funktioniert und welche Vorteile sie für die Heilung von Trauma und Stress hat. Wenn du dich für alternative Heilmethoden interessierst\, ist dieser Vortrag genau das Richtige für dich. Sei gespannt auf neue Ansätze und Perspektiven!
LOCATION:Waitzinger Keller\, 83714 Miesbach
URL:https://www.die-wunderliste.de/events/2026-04-25-neurogenes-zittern-mit-tre
END:VEVENT
END:VCALENDAR