BEGIN:VCALENDAR
VERSION:2.0
PRODID:-//die wunderliste//DE
CALSCALE:GREGORIAN
METHOD:PUBLISH
BEGIN:VEVENT
UID:9b1fedfc-381f-4ae2-ba84-9dbfa0d8cf21@die-wunderliste.de
DTSTAMP:20260424T221214Z
DTSTART:20260425T170000Z
DTEND:20260425T190000Z
SUMMARY:Gruppenmeditation nach Joe Dispenza
DESCRIPTION:Unter dem Motto "Wer ein Herz hat\, kann heilen!" treffen wir uns monatlich zur Gruppenmeditation. Durch Herzatmung und das Fühlen positiver Emotionen steigern wir unsere Kohärenz und stärken damit das Immunsystem. Erlebe die Kraft der Gemeinschaft und des Austauschs in der Mohrvilla.
LOCATION:Mohrvilla\, Situlistraße 75\, München
URL:https://www.die-wunderliste.de/events/2026-04-25-gruppenmeditation-nach-joe-dispenza
END:VEVENT
END:VCALENDAR