BEGIN:VCALENDAR
VERSION:2.0
PRODID:-//die wunderliste//DE
CALSCALE:GREGORIAN
METHOD:PUBLISH
BEGIN:VEVENT
UID:be048ec6-58b1-4a05-8b2a-a4a6bf3d876c@die-wunderliste.de
DTSTAMP:20260425T002518Z
DTSTART:20260425T170000Z
DTEND:20260425T190000Z
SUMMARY:AUM - Die soziale Meditation
DESCRIPTION:Die AUM-Meditation führt dich durch 14 Phasen\, die Bewegung\, Ausdruck\, Begegnung und Stille beinhalten. Es sind keine Vorkenntnisse erforderlich. Ein paar Tickets sind noch zum Verkauf. Die Veranstaltung bietet eine wertvolle Möglichkeit\, sich zu entspannen und Lebendigkeit zu erfahren. Lass den Stress hinter dir und finde zu deiner inneren Ruhe.
LOCATION:Im Neuen Garten\, Münchener Straße 9\, 85540 Haar (bei München)
URL:https://www.die-wunderliste.de/events/2026-04-25-aum-die-soziale-meditation
END:VEVENT
END:VCALENDAR